BEGIN:VCALENDAR
VERSION:2.0
PRODID:-//Jeep Club Austria - ECPv6.15.20//NONSGML v1.0//EN
CALSCALE:GREGORIAN
METHOD:PUBLISH
X-WR-CALNAME:Jeep Club Austria
X-ORIGINAL-URL:https://www.jeepclubaustria.at
X-WR-CALDESC:Veranstaltungen für Jeep Club Austria
REFRESH-INTERVAL;VALUE=DURATION:PT1H
X-Robots-Tag:noindex
X-PUBLISHED-TTL:PT1H
BEGIN:VTIMEZONE
TZID:Europe/Vienna
BEGIN:DAYLIGHT
TZOFFSETFROM:+0100
TZOFFSETTO:+0200
TZNAME:CEST
DTSTART:20250330T010000
END:DAYLIGHT
BEGIN:STANDARD
TZOFFSETFROM:+0200
TZOFFSETTO:+0100
TZNAME:CET
DTSTART:20251026T010000
END:STANDARD
BEGIN:DAYLIGHT
TZOFFSETFROM:+0100
TZOFFSETTO:+0200
TZNAME:CEST
DTSTART:20260329T010000
END:DAYLIGHT
BEGIN:STANDARD
TZOFFSETFROM:+0200
TZOFFSETTO:+0100
TZNAME:CET
DTSTART:20261025T010000
END:STANDARD
BEGIN:DAYLIGHT
TZOFFSETFROM:+0100
TZOFFSETTO:+0200
TZNAME:CEST
DTSTART:20270328T010000
END:DAYLIGHT
BEGIN:STANDARD
TZOFFSETFROM:+0200
TZOFFSETTO:+0100
TZNAME:CET
DTSTART:20271031T010000
END:STANDARD
END:VTIMEZONE
BEGIN:VEVENT
DTSTART;VALUE=DATE:20260522
DTEND;VALUE=DATE:20260525
DTSTAMP:20260422T114711
CREATED:20260305T192004Z
LAST-MODIFIED:20260409T132739Z
UID:235-1779408000-1779667199@www.jeepclubaustria.at
SUMMARY:Jeep Jamboree 2026
DESCRIPTION:Jeep Jamboree 2026 – Raus aus dem Alltag. Rein ins Abenteuer. \n22.–24. Mai 2026 | Rohr im Gebirge/NÖ \nWenn der Asphalt endet und der Wald beginnt. Wenn Schotter unter den Reifen knirscht\, Motoren tief brummen und Gleichgesinnte Seite an Seite unterwegs sind. Dann weißt Du: Du bist genau richtig. \nDie Jeep Jamboree 2026 ist mehr als eine Ausfahrt – sie ist Natur\, Fahrspaß und echter Jeep‑Zusammenhalt. \nDas Abenteuer beginnt \nFreitag\, 22.05.2026 – Zusammenkommen \nDie Jeeps rollen ein\, der Stress bleibt zurück. Nach der Anreise treffen wir uns im Gasthaus Furtner in Rohr im Gebirge\, wo Geschichten\, Lachen und Vorfreude den Abend bestimmen. Der perfekte Auftakt für ein Wochenende voller Freiheit. \nSamstag\, 23.05.2026 – Wildnis unter den Rädern \nUm 09:30 Uhr sammeln wir uns.\nUm 10:00 Uhr fahren wir los – hinein in den Wald \n\nca. 70 km Schotterstraßen\nAbseits der Wege\nNatur hautnah erleben\n\nZwischen Bäumen\, Lichtungen und Waldpfaden erwartet uns ein ganz besonderes Highlight:\nEin 3‑gängiges Wald‑Picknick\, mitten im Grünen\, organisiert vom Jeep Club Austria. \n\nVorspeise – irgendwo im Wald\nHauptspeise – dort\, wo man sie nicht erwartet\nNachspeise – als süßer Abschluss\n\nDazwischen: fahren\, entdecken\, genießen. \nAm Abend kehren wir ins Gasthaus zurück\, wo wir den Tag gemeinsam ausklingen lassen. \nSonntag\, 24.05.2026 – Entdecken & Abschließen \nZum Abschluss verlassen wir die Waldpfade und verbringen den Vormittag miteinander bei einer interessanten Führung\, bevor wir uns zu Mittag individuell verabschieden. \nTeilnahme & Kosten \nMitglieder des Jeep Club Austria & Begleitung: GRATIS (exkl. Übernachtung und Verpflegung im Gasthaus)\nNichtmitglieder: Tagesmitgliedschaft € 60\,00 \n–> Mitfahren. Mitlachen. Dazugehören. \nAnmeldung \nAbenteuer braucht Planung.\nVerbindliche Anmeldung bis spätestens Samstag\, 25.04.2026 \nMit der Teilnahme akzeptierst Du unsere Verhaltensregeln und Datenschutzbestimmungen.  \n\nHier anmelden!
URL:https://www.jeepclubaustria.at/event/jeep-jamboree-2026/
LOCATION:Rohr im Gebirge\, Gasthaus Furtner\, Klausbach 16\, Rohr im Gebirge\, 2663\, Austria
END:VEVENT
BEGIN:VEVENT
DTSTART;VALUE=DATE:20260918
DTEND;VALUE=DATE:20260921
DTSTAMP:20260422T114711
CREATED:20260309T200453Z
LAST-MODIFIED:20260309T200559Z
UID:261-1789689600-1789948799@www.jeepclubaustria.at
SUMMARY:Jeep Adventure 2026
DESCRIPTION:Save the date!\nDetails folgen in Kürze!
URL:https://www.jeepclubaustria.at/event/jeep-adventure-2026/
LOCATION:St. Peter am Kammersberg\, St. Peter am Kammersberg\, 8843\, Austria
END:VEVENT
END:VCALENDAR